BEGIN:VCALENDAR
VERSION:2.0
PRODID:-//Experience San Miguel De Allende - ECPv6.15.20//NONSGML v1.0//EN
CALSCALE:GREGORIAN
METHOD:PUBLISH
X-ORIGINAL-URL:https://experiencesma.com
X-WR-CALDESC:Events for Experience San Miguel De Allende
REFRESH-INTERVAL;VALUE=DURATION:PT1H
X-Robots-Tag:noindex
X-PUBLISHED-TTL:PT1H
BEGIN:VTIMEZONE
TZID:America/Mexico_City
BEGIN:STANDARD
TZOFFSETFROM:-0600
TZOFFSETTO:-0600
TZNAME:CST
DTSTART:20230101T000000
END:STANDARD
END:VTIMEZONE
BEGIN:VEVENT
DTSTART;TZID=America/Mexico_City:20240720T150000
DTEND;TZID=America/Mexico_City:20240720T190000
DTSTAMP:20260420T100716
CREATED:20240625T221335Z
LAST-MODIFIED:20240625T221335Z
UID:1255-1721487600-1721502000@experiencesma.com
SUMMARY:Down the Rabbit Hole Grand Tea Party
DESCRIPTION:                                                         Come play with us!\n\n\nFollow the White Rabbit as he leads us down the rabbit hole of our imaginations at a Grand Tea Party!\n\n“Why\, sometimes I’ve believed as many as six impossible things before breakfast!”\n\nExperienceSMA is delighted to promote in partnership with Wizards of the Heart Theater Group & Clandestine Cuisine for this one-of-a-kind event here in the heart of San Miguel de Allende!\n\n“Curiouser & Curiouser!”\n\n\nA delightful\, nonsensical afternoon where you just might just believe everything “impossible” manifesting before your eyes – or can you believe what you are seeing?  An interactive playful adventure set in a turn of the century home in the heart of San Miguel.\n\nDress the part- what is your favorite Alice in Wonderland character?  The Queen of Hearts… The mad hatter… Alice ?   Let your inner child come play!\nOr try your fortune in the costume room\, ask sage advice from the cast of characters and let’s play!\n\nTickets are only available  in advance and it is an 18+ adults only event.\n\n\n\nEarly tickets available at a discount 680 pesos (cash) right now thru July 4th (afterward price increase to 800 pesos if any tickets remain)\n\nPickup at Mercado Sano by calling arranging with Kat +1 425-999-6916 or WA 415 113 0364 Mari Osa\n\n\nDate: Sat July 20th 3-7PM\n\n\n\nIncludes: 3-7pm\n– Themed Tea party\n– Late-Afternoon grazing table\n– Interactive play throughout event\n– Dress-up room and optional professional photographs\n– Raffle & prizes\n– Cake!\n– Cash Wine Bar\n– A Most delightful afternoon in SMA\n\n\n\n\n“Don’t be late for this very important date!”\n\nBTW – Leave your cell phones at home – what happens at this tea party stays at the party.\n\nPlease RSVP here but know you need to arrange a meeting with Kat for your ticket prior to event.\nUS + 1 425-999-6916  I will follow up with an email from team@experienceSMA.com
URL:https://experiencesma.com/event/down-the-rabbit-hole-grand-tea-party/
LOCATION:Private Home in Centro\, Aldama\, San Miguel de Allende\, gto\, 37700\, Mexico
CATEGORIES:Party
ATTACH;FMTTYPE=image/jpeg:https://experiencesma.com/wp-content/uploads/2024/06/alice.jpg
END:VEVENT
END:VCALENDAR