BEGIN:VCALENDAR
VERSION:2.0
PRODID:-//Experience San Miguel De Allende - ECPv6.15.20//NONSGML v1.0//EN
CALSCALE:GREGORIAN
METHOD:PUBLISH
X-ORIGINAL-URL:https://experiencesma.com
X-WR-CALDESC:Events for Experience San Miguel De Allende
REFRESH-INTERVAL;VALUE=DURATION:PT1H
X-Robots-Tag:noindex
X-PUBLISHED-TTL:PT1H
BEGIN:VTIMEZONE
TZID:America/Mexico_City
BEGIN:STANDARD
TZOFFSETFROM:-0600
TZOFFSETTO:-0600
TZNAME:CST
DTSTART:20240101T000000
END:STANDARD
END:VTIMEZONE
BEGIN:VEVENT
DTSTART;TZID=America/Mexico_City:20250704T150000
DTEND;TZID=America/Mexico_City:20250704T180000
DTSTAMP:20260421T042520
CREATED:20250605T174023Z
LAST-MODIFIED:20250629T185849Z
UID:2408-1751641200-1751652000@experiencesma.com
SUMMARY:4th of July BBQ
DESCRIPTION:Join us for a 4th of July celebration Texas Style! La Marthina at Stirling #12 will be our host\, Flava Chef Leif on the BBQ and Music by Dee Dub\nIt is going to be a wonderful afternoon  not to be missed! \n La Marthina Bistro\n Stirling Dickinson #12 (the old expat building repurposed )\n Great Music | Big Smoke | Bold Flavors\n Ticket: $875 MXN\n***PrePurchase required  https://buy.stripe.com/8x27sLfuWfkO6j54kR43S00 \nNo tickets sold at door. \nIncludes 1 loaded BBQ plate\, welcome margarita\, tea & dessert \n CHOOSE YOUR 2 PROTEINS\nTexas-style\, slow-smoked\, bold and juicy. * Veggie burger option \n~ Texas-Style Brisket\nSmoked to perfection\, black bark\, tender bite.\n~ BBQ Sausage Links\nJuicy\, smoky\, spiced — glazed with FLAVA’s special  BBQ sauce.\n~ Sticky Pork Ribs\nFinger-lickin’\, fall-off-the-bone\, sweet ‘n’ spicy glazed \nIncludes Sides:\nSouthern soul with barrio flavor. \nGrilled Corn on the Cob\n→ Elote Style – chili\, lime\, cotija OR Classic – buttered & salted\n~ Southern Slaw\nTangy crunch and cool bite\n~ Potato Salad\nCreamy\, chilled\, herbed — just like home.\n~Smoky Baked Beans\nSlow-cooked with spices\, brown sugar is pure BBQ gold \nServed with\nCornbread & Honey Butter\nGolden\, fluffy\, and kissed with sweet butter love.\n.\n DESSERT\nGrandpas Peach Cobbler\nWarm\, buttery\, cinnamon-rich.\nScoop of vanilla ice cream? Just say the word. \n DRINKS\nWelcome Margarita and Lousiana Iced Tea \nMargarita Fresh-squeezed lime\, salted rim\, served on the rocks.\nThe real Lousiana Iced Tea\nBoth Included with your meal. \nFull Bar Available (Extra Cost)\nFeaturing ice-cold beer\, bar service\, and curated cocktails specially crafted for the celebration.\nDrinks beyond the welcome margarita and tea not included in ticket price.\n THIS IS NOT JUST A BBQ. \nIt’s FLAVA bringing the smoke\,\nThe ExperienceSMA curating the scene\,\nand La Marthina Bistro setting the stage. \n Stirling Dickinson #12\, San Miguel de Allende\n Ticket: $875 MXN – Limited Spots\n Great Music • Real Vibes • No Half-Steppin \nRSVP ExperienceSMA.com and you will be sent\na link to pay directly to Flava
URL:https://experiencesma.com/event/4th-of-july-bbq/
LOCATION:Stirling #12\, Stirling #12\, san Minguel de allende\, 37754\, Mexico
CATEGORIES:Party,Special Product
ATTACH;FMTTYPE=image/jpeg:https://experiencesma.com/wp-content/uploads/2025/06/4th-Of-July-BBQ-4.jpg
END:VEVENT
BEGIN:VEVENT
DTSTART;TZID=America/Mexico_City:20250718T130000
DTEND;TZID=America/Mexico_City:20250718T150000
DTSTAMP:20260421T042520
CREATED:20250710T140428Z
LAST-MODIFIED:20250710T161312Z
UID:2496-1752843600-1752850800@experiencesma.com
SUMMARY:Ladies who Lunch High Tea
DESCRIPTION:Ladies who Lunch High Tea \nLadies who Lunch event by ExperienceSMA hosted by Kat Sparks\nWhen: Friday July 18 at 1pm\nWhere: The Tea Room\nSalida a Celaya 6-iterior 5\n*upstairs and yes\, the elevator works. \nWhat: Ladies Who Lunch High Tea\nfeaturing a fortune teller tea leaf reader (sign up when you arrive reading is 100 pesos)\nMenu:\n– Pot of specialty tea\n– Faery kissed Salad\n– High Tea with savory & sweet treats\nCost: 495 pesos includes\nmeal\, tea\, fun and gratuity \nWhat: Ladies who lunch dress up tea party and lunch. Wear your finest hat\, scarf\, tiara or anything that makes you feel pretty \nLimit: 20 ladies (guys if you want to wear a bonnet you can join too) \nPrice $495 pesos includes tea\, meal with savory and sweet and gratuity \nWe will have a tea leaf reader to personally read your tea cup  100 pesos extra to her and signup for timeslot at the event.
URL:https://experiencesma.com/event/ladies-who-lunch-high-tea/
LOCATION:The Tea Room\, Salida a Celaya 6-iterior 5\,\, san Minguel de allende\, Select a State:\, 37754\, Mexico
CATEGORIES:Party
ATTACH;FMTTYPE=image/webp:https://experiencesma.com/wp-content/uploads/2025/07/tea-room.webp
END:VEVENT
END:VCALENDAR