BEGIN:VCALENDAR
VERSION:2.0
PRODID:-//Experience San Miguel De Allende - ECPv6.15.20//NONSGML v1.0//EN
CALSCALE:GREGORIAN
METHOD:PUBLISH
X-ORIGINAL-URL:https://experiencesma.com
X-WR-CALDESC:Events for Experience San Miguel De Allende
REFRESH-INTERVAL;VALUE=DURATION:PT1H
X-Robots-Tag:noindex
X-PUBLISHED-TTL:PT1H
BEGIN:VTIMEZONE
TZID:America/Mexico_City
BEGIN:STANDARD
TZOFFSETFROM:-0600
TZOFFSETTO:-0600
TZNAME:CST
DTSTART:20250101T000000
END:STANDARD
END:VTIMEZONE
BEGIN:VEVENT
DTSTART;TZID=America/Mexico_City:20260226T143000
DTEND;TZID=America/Mexico_City:20260226T163000
DTSTAMP:20260421T145049
CREATED:20260218T204343Z
LAST-MODIFIED:20260218T205314Z
UID:2668-1772116200-1772123400@experiencesma.com
SUMMARY:Birthday Tea Party Feb 26
DESCRIPTION:🎉✨ BIRTHDAY TEA PARTY! ✨🎉\nWe’re celebrating and YOU’RE invited!\n📅 Thursday\, February 26th at 2:30 PM\n📍 The Tea Room\nSalida a Celaya 6\, Interior 10\nZona Centro\, Guadiana\nSan Miguel de Allende\, Gto. 37760\nTucked in the heart of San Miguel\, The Tea Room is pure charm in a cup. Come spend a magical afternoon with good people\, great tea\, and zero reasons to behave yourself.\n👒 DRESS FOR FUN! Florals\, fascinators\, bowties\, feathers\, sequins… if it makes you smile in the mirror\, wear it. Gals AND guys\, this means you.\n🫖 HIGH TEA ~ 500 PESOS\nA gorgeous pot of tea\, three tiers of sweet bites\, fresh scones with cream and jam\, finger sandwiches\, and hot bites. Yes\, all of that.\n🍃 TEA LEAF READINGS AVAILABLE\nBecause why not peek into the future while you’re at it? Fatima is a gifted reader sosign up for reading 225 pesos\nReservations required as seats are limited!\n💌 RSVP at ExperienceSMA.com
URL:https://experiencesma.com/event/birthday-tea-party-feb-26/
LOCATION:The Tea Room\, Salida a Celaya 6-iterior 5\,\, san Minguel de allende\, Select a State:\, 37754\, Mexico
CATEGORIES:Party
ATTACH;FMTTYPE=image/jpeg:https://experiencesma.com/wp-content/uploads/2026/02/IMG_0296.jpeg
END:VEVENT
END:VCALENDAR