BEGIN:VCALENDAR
VERSION:2.0
PRODID:-//Experience San Miguel De Allende - ECPv6.15.20//NONSGML v1.0//EN
CALSCALE:GREGORIAN
METHOD:PUBLISH
X-WR-CALNAME:Experience San Miguel De Allende
X-ORIGINAL-URL:https://experiencesma.com
X-WR-CALDESC:Events for Experience San Miguel De Allende
REFRESH-INTERVAL;VALUE=DURATION:PT1H
X-Robots-Tag:noindex
X-PUBLISHED-TTL:PT1H
BEGIN:VTIMEZONE
TZID:America/Mexico_City
BEGIN:STANDARD
TZOFFSETFROM:-0600
TZOFFSETTO:-0600
TZNAME:CST
DTSTART:20240101T000000
END:STANDARD
END:VTIMEZONE
BEGIN:VEVENT
DTSTART;TZID=America/Mexico_City:20251121T143000
DTEND;TZID=America/Mexico_City:20251121T163000
DTSTAMP:20260421T095841
CREATED:20251008T222428Z
LAST-MODIFIED:20251118T055159Z
UID:2526-1763735400-1763742600@experiencesma.com
SUMMARY:Ladies Who Lunch- Thankful  ❤️
DESCRIPTION:Giving Thanks for the Ladies in Our Lives! \nLadies who Lunch \nCasa Nostra \nFriday\, November 21st \n2:30 to 4:30 PM \n500 pesos \nLadies\, I am so incredibly thankful for the women in my life\, and this Ladies who Lunch is all about honoring YOU.  \nWe’ll start by giving thanks to the women who make SMA special.  \nChef Marco\, the owner of Casa Nostra\, has created a culinary masterpiece that’ll make your taste buds dance. And here’s where it gets really exciting\, while you’re savoring this incredible meal\, you’ll have the chance to win some absolutely fantastic prizes in our giveaway. \nThe Menu (500 pesos\, taxes included\, gratuity not included): \nPumpkin soup with pumpkin seeds and Kürbiskernöl from the Steiermark \nThis pumpkin seed oil is a delicacy from Austria’s Steiermark region and adds a lovely touch of nuttiness to the dish (a bottle of the oil is one of our prizes ❤️) \nVegetarian Caesar salad topped with Diane-style mushrooms \nThe mushrooms are seared with garlic and onion\, refined with mustard\, flambéed with brandy\, and finished with a touch of cream and parsley\, replicating those savory anchovy flavors \nA bite of healthy but decident  GF brownies so moist and delicious you’ll think you’ve gone to heaven \nAnd because Chef Marco is as generous as he is talented\, every guest will receive a special thank you gift! \nJoin us to celebrate friendship\, the amazing women in our lives\, and this beautiful town we call home. \nWear something that makes you feel fabulous🦋 \nSeating limited to 35 guests. RSVP on ExperienceSMA.com
URL:https://experiencesma.com/event/get-ready-to-lunch-for-a-cause/
LOCATION:Casa Nostra\, Terraplén 8\, Zona Centro\,\, GTO\, 37700\, Mexico
CATEGORIES:Special Product
ATTACH;FMTTYPE=image/jpeg:https://experiencesma.com/wp-content/uploads/2025/10/IMG_9753.jpeg
END:VEVENT
END:VCALENDAR