BEGIN:VCALENDAR
VERSION:2.0
PRODID:-//Experience San Miguel De Allende - ECPv6.15.20//NONSGML v1.0//EN
CALSCALE:GREGORIAN
METHOD:PUBLISH
X-WR-CALNAME:Experience San Miguel De Allende
X-ORIGINAL-URL:https://experiencesma.com
X-WR-CALDESC:Events for Experience San Miguel De Allende
REFRESH-INTERVAL;VALUE=DURATION:PT1H
X-Robots-Tag:noindex
X-PUBLISHED-TTL:PT1H
BEGIN:VTIMEZONE
TZID:America/Mexico_City
BEGIN:STANDARD
TZOFFSETFROM:-0600
TZOFFSETTO:-0600
TZNAME:CST
DTSTART:20240101T000000
END:STANDARD
END:VTIMEZONE
BEGIN:VEVENT
DTSTART;TZID=America/Mexico_City:20251016T160000
DTEND;TZID=America/Mexico_City:20251016T180000
DTSTAMP:20260421T082438
CREATED:20251011T215226Z
LAST-MODIFIED:20251011T215226Z
UID:2530-1760630400-1760637600@experiencesma.com
SUMMARY:Launch party  Complimentary food and drink on the rooftop
DESCRIPTION:You’re Invited to the University of Expats Launch Party! \nOctober 16th | 4-6pm (Thursday) \nCasa Grande Rooftop\n5 de Mayo 8\, Int 12B\nSan Miguel de Allende \nWe’re finally taking this show offline! Come celebrate with us as we bring our digital community into the real world\, where conversations happen face to face and the only algorithm is good vibes.\nJoin us for a complimentary cocktail\nand nibbles on us\, because nothing says “we appreciate you” like free food and booze.  Christy of Clandestine Cuisine and Kat Sparks  will be preparing tasty complimentary nibbles. Our resident mixologist\, Leif from Flava\, will be running a cash bar with wine and drinks so creative\, you’ll want to know his secrets.  Plus a welcome cocktail on us! \nIt’s time to put faces to profile pictures and turn all those online connections into real friendships. Can’t wait to see you there!\nRSVP appreciated\nExperienceSMA.com\nQuestions: Hola@UniversityofExpats.com
URL:https://experiencesma.com/event/launch-party-complimentary-food-and-drink-on-the-rooftop/
LOCATION:Casa Grande\, 5 de Mayo 8\, san Minguel de allende\, GTO\, 37760\, Mexico
CATEGORIES:Party
ATTACH;FMTTYPE=image/png:https://experiencesma.com/wp-content/uploads/2025/10/University-of-Expats-logo-Dark-blue-Horizontal-1.png
ORGANIZER;CN="University of Expats":MAILTO:Hola@universityofexpats.com
END:VEVENT
END:VCALENDAR